BEGIN:VCALENDAR
VERSION:2.0
PRODID:-// - ECPv6.15.20//NONSGML v1.0//EN
CALSCALE:GREGORIAN
METHOD:PUBLISH
X-ORIGINAL-URL:http://taniku-grow.com
X-WR-CALDESC: のイベント
REFRESH-INTERVAL;VALUE=DURATION:PT1H
X-Robots-Tag:noindex
X-PUBLISHED-TTL:PT1H
BEGIN:VTIMEZONE
TZID:Asia/Tokyo
BEGIN:STANDARD
TZOFFSETFROM:+0900
TZOFFSETTO:+0900
TZNAME:JST
DTSTART:20160101T000000
END:STANDARD
END:VTIMEZONE
BEGIN:VEVENT
DTSTART;TZID=Asia/Tokyo:20190427T120000
DTEND;TZID=Asia/Tokyo:20190429T170000
DTSTAMP:20260420T084150
CREATED:20190201T142259Z
LAST-MODIFIED:20190307T144331Z
UID:3608-1556366400-1556557200@taniku-grow.com
SUMMARY:Happiring 3nd Anniversary　クラフト&スィーツフェスティバル
DESCRIPTION:4月27日（土）PM12:00～PM19:00\n4月28日（日）AM10:00～PＭ17:00\n4月29日（月）AM10:00～PＭ17:00 \n会場：福井駅西口ハピリン　屋根付き広場ハピテラス \n共有:\n				Facebook で共有 (新しいウィンドウで開きます)\n				Facebook\n			その他\n				X で共有 (新しいウィンドウで開きます)\n				X\n			\n				Pinterest で共有 (新しいウィンドウで開きます)\n				Pinterest
URL:http://taniku-grow.com/event/event-2
LOCATION:ハピリン\, 中央1-2-1\, 福井市\, 福井県
END:VEVENT
BEGIN:VEVENT
DTSTART;TZID=Asia/Tokyo:20180717T133000
DTEND;TZID=Asia/Tokyo:20180717T150000
DTSTAMP:20260420T084150
CREATED:20180202T161914Z
LAST-MODIFIED:20180202T161914Z
UID:2566-1531834200-1531839600@taniku-grow.com
SUMMARY:霞の郷カルチャー講座　昼の部
DESCRIPTION:毎回1つの作品を作ってお持ち帰り頂く事ができる \n3ヵ月1クルーの講座です \nどうしても来られない月は翌月に振り替え可能です \n  \n毎月第3火曜日PM13:30～PM15:00 \n受講料：6\,480円（税込）3ヵ月分前納 \n材料費：各回1\,500円程度～ \n会場：霞の郷温泉 \n福井県坂井市丸岡町八ヶ郷21-7-1 \n共有:\n				Facebook で共有 (新しいウィンドウで開きます)\n				Facebook\n			その他\n				X で共有 (新しいウィンドウで開きます)\n				X\n			\n				Pinterest で共有 (新しいウィンドウで開きます)\n				Pinterest
URL:http://taniku-grow.com/event/%e9%9c%9e%e3%81%ae%e9%83%b7%e3%82%ab%e3%83%ab%e3%83%81%e3%83%a3%e3%83%bc%e8%ac%9b%e5%ba%a7%e3%80%80%e6%98%bc%e3%81%ae%e9%83%a8
LOCATION:霞の郷温泉\, 丸岡町八ケ郷２１−７−１\, 坂井市\, 福井県
END:VEVENT
BEGIN:VEVENT
DTSTART;TZID=Asia/Tokyo:20180602T100000
DTEND;TZID=Asia/Tokyo:20180602T160000
DTSTAMP:20260420T084150
CREATED:20180202T160739Z
LAST-MODIFIED:20180531T013829Z
UID:2556-1527933600-1527955200@taniku-grow.com
SUMMARY:小さな手作り展vol.25
DESCRIPTION:6月2日（土）3日（日）AM10:00～PM16:00 \n＊Growは6月2日のみ屋外出展させて頂きます \n\n二代目大和高原の多肉屋・Hanasai　Taniku　Works　苗も持って行きます♪ \n  \n \n会場：チューリップ四季彩館 \n富山県砺波市中村100-1 \n \n共有:\n				Facebook で共有 (新しいウィンドウで開きます)\n				Facebook\n			その他\n				X で共有 (新しいウィンドウで開きます)\n				X\n			\n				Pinterest で共有 (新しいウィンドウで開きます)\n				Pinterest
URL:http://taniku-grow.com/event/tonami-tedukuriten
LOCATION:チューリップ四季彩館\, 中村100-1\, 砺波市\, 富山県
END:VEVENT
BEGIN:VEVENT
DTSTART;TZID=Asia/Tokyo:20180428T100000
DTEND;TZID=Asia/Tokyo:20180428T160000
DTSTAMP:20260420T084150
CREATED:20180202T155123Z
LAST-MODIFIED:20180425T024023Z
UID:2550-1524909600-1524931200@taniku-grow.com
SUMMARY:多肉植物の寄せ植えWORKSHOP
DESCRIPTION:多肉植物の寄せ植えWORKSHOP \n\n\n \n \n4月28日（土）ペイント缶の寄せ植え　参加費：1\,620円 \nペイント缶作りは今回含まれていませんので、作ってある中から選んで頂けます\n好きな苗とラベルもお選び頂けます \nご予約受付中 \n①AM10:00～　残席3名様 \n②PM13:00～　残席6名様 \n③PM15:00～　残席4名様 \n定員：各回先着10名様 \n多肉植物の植え替え・寄せ植え相談 \n④AM11:00～ \n\n共有:\n				Facebook で共有 (新しいウィンドウで開きます)\n				Facebook\n			その他\n				X で共有 (新しいウィンドウで開きます)\n				X\n			\n				Pinterest で共有 (新しいウィンドウで開きます)\n				Pinterest
URL:http://taniku-grow.com/event/succulent-workshop-4-28
LOCATION:福井県総合グリーンセンター\, 丸岡町楽間15\, 坂井市\, 福井県
END:VEVENT
BEGIN:VEVENT
DTSTART;TZID=Asia/Tokyo:20180407T100000
DTEND;TZID=Asia/Tokyo:20180407T180000
DTSTAMP:20260420T084150
CREATED:20180214T010307Z
LAST-MODIFIED:20180403T223513Z
UID:2596-1523095200-1523124000@taniku-grow.com
SUMMARY:みどりでつながるGreen Marche 横浜2018
DESCRIPTION:  \n \nGreen Marche 横浜2018 \n4月7日(土)4月8日(日)AM10時〜PM18時\n会場： 山下公園 お祭り広場 \n神奈川県横浜市中区山下町２７９ \n＊Growは4月7日に出展させて頂く事になりました \nブースNo.C8です \n\n沢山の皆様にお会いできること楽しみにしています(*^^*) \n二代目大和高原の多肉屋さん・いとうぐりーんさんの多肉植物販売予定 \nお天気を見てWORKSHOPも開催できたらと思っています \nみんな来てね \n  \n\n\n▼出展者▼ \na piece of dream* & ficelle\nchie* craft\nInside Village Garden mayuno & sasa\nボタニカルコネクション 緑交\ngreen bucker\nbizarrefarm & TANITEN\ntaniku.ra & VERT-365MaiLifeDesign- ： mai\nくるみ*のgreen工房\n多肉Garden＊Grow\n道草\nBlumen Hütte\nGREEN JAM\nBORDER BREAK実行部\nandplants\n木谷美咲\nDream Craft吉坂包装株式会社\nサキュレントマスター：YASUSHI UEDA\nピースオブマインド：TAKAYUKI　KATO\nジャンク雑貨AYUMi：AYUMi\nジュエルガーデン：ACO\n花彩・Hanasai Taniku Works\nプロトリーフ\nGreenGalleryGARDENS\ncotoha\n河野自然園\nBOTANIZE\nWONDER FLOWER\nサントリーフラワーズ \n主催：GreenSnap \n\n共有:\n				Facebook で共有 (新しいウィンドウで開きます)\n				Facebook\n			その他\n				X で共有 (新しいウィンドウで開きます)\n				X\n			\n				Pinterest で共有 (新しいウィンドウで開きます)\n				Pinterest
URL:http://taniku-grow.com/event/event4-7
LOCATION:山下公園\, 中区山下町279\, 横浜市\, 神奈川県\, Japan
END:VEVENT
BEGIN:VEVENT
DTSTART;TZID=Asia/Tokyo:20180331T100000
DTEND;TZID=Asia/Tokyo:20180401T170000
DTSTAMP:20260420T084150
CREATED:20180110T135357Z
LAST-MODIFIED:20180115T043451Z
UID:2491-1522490400-1522602000@taniku-grow.com
SUMMARY:ShopGenjiroのArt＆雑貨 2018 Spring
DESCRIPTION:平成30年3月31日（土）4月1日（日）10:00～17:00 \n会場：福井県産業会館1号館・2号館 \n入場料：当日入場　　一般　300円（18歳以上）　18歳以下　無料 \n前売り券　一般　300円（18歳以上）会場内で使用できる金券200円分が付いています。 \n  \n共有:\n				Facebook で共有 (新しいウィンドウで開きます)\n				Facebook\n			その他\n				X で共有 (新しいウィンドウで開きます)\n				X\n			\n				Pinterest で共有 (新しいウィンドウで開きます)\n				Pinterest
URL:http://taniku-grow.com/event/shopgenjiro-2018-spring
LOCATION:福井県産業会館\, 下六条町103\, 福井市\, 福井県
END:VEVENT
BEGIN:VEVENT
DTSTART;TZID=Asia/Tokyo:20180320T133000
DTEND;TZID=Asia/Tokyo:20180320T150000
DTSTAMP:20260420T084150
CREATED:20171227T143754Z
LAST-MODIFIED:20171227T143754Z
UID:2466-1521552600-1521558000@taniku-grow.com
SUMMARY:霞の郷カルチャー講座　昼の部
DESCRIPTION:christmas　wreath\n				\n			\n				\n			\n				\n				canister\n				\n			\n				\n			\n				\n				nijiiro　sand\n				\n		\n\n毎回1つの作品を作ってお持ち帰り頂く事ができる \n3ヵ月1クルーの講座です \nどうしても来られない月は翌月に振り替え可能です \n  \n毎月第3火曜日PM13:30～PM15:00 \n受講料：6\,480円（税込）3ヵ月分前納 \n材料費：各回1\,500円程度～ \n会場：霞の郷温泉 \n福井県坂井市丸岡町八ヶ郷21-7-1 \n共有:\n				Facebook で共有 (新しいウィンドウで開きます)\n				Facebook\n			その他\n				X で共有 (新しいウィンドウで開きます)\n				X\n			\n				Pinterest で共有 (新しいウィンドウで開きます)\n				Pinterest
URL:http://taniku-grow.com/event/kasumi-pm-3
LOCATION:霞の郷温泉\, 丸岡町八ケ郷２１−７−１\, 坂井市\, 福井県
END:VEVENT
BEGIN:VEVENT
DTSTART;TZID=Asia/Tokyo:20180310T100000
DTEND;TZID=Asia/Tokyo:20180311T170000
DTSTAMP:20260420T084150
CREATED:20171227T150326Z
LAST-MODIFIED:20171227T150326Z
UID:2470-1520676000-1520787600@taniku-grow.com
SUMMARY:ゆきどけピクニック2018
DESCRIPTION:3月10日（土）11日（日）AM10:00～PM17:00 \n会場：ゆりの里公園　ユリーム春江\n福井県坂井市春江町石塚21-2-3 \n共有:\n				Facebook で共有 (新しいウィンドウで開きます)\n				Facebook\n			その他\n				X で共有 (新しいウィンドウで開きます)\n				X\n			\n				Pinterest で共有 (新しいウィンドウで開きます)\n				Pinterest
URL:http://taniku-grow.com/event/yukidoke2018
LOCATION:ゆりの里公園\, 春江町石塚21-2-3\, 坂井市\, 福井県
END:VEVENT
BEGIN:VEVENT
DTSTART;TZID=Asia/Tokyo:20180207T190000
DTEND;TZID=Asia/Tokyo:20180207T203000
DTSTAMP:20260420T084150
CREATED:20171227T151337Z
LAST-MODIFIED:20171227T151750Z
UID:2475-1518030000-1518035400@taniku-grow.com
SUMMARY:リライムカルチャー講座　夜の部
DESCRIPTION:yoseue\n				\n			\n				\n			\n				\n				yoseue\n				\n			\n				\n			\n				\n				wreath\n				\n		\n\n毎回1つの作品を作ってお持ち帰り頂く事ができる \n3ヵ月1クルーの講座です \nどうしても来られない月は翌月に振り替え可能です \n  \n毎月第3火曜日PM13:30～PM15:00 \n受講料：6\,480円（税込）3ヵ月分前納 \n材料費：各回1\,500円程度～ \n  \n会場：コミュニティリゾートリライム　2Fアトリエ \n福井県福井市開発町5-1207 \n共有:\n				Facebook で共有 (新しいウィンドウで開きます)\n				Facebook\n			その他\n				X で共有 (新しいウィンドウで開きます)\n				X\n			\n				Pinterest で共有 (新しいウィンドウで開きます)\n				Pinterest
URL:http://taniku-grow.com/event/riraimu-1
LOCATION:コミュニティリゾートリライム\, 開発町5-1207\, 福井市\, 福井県
END:VEVENT
BEGIN:VEVENT
DTSTART;TZID=Asia/Tokyo:20171014T093000
DTEND;TZID=Asia/Tokyo:20171015T163000
DTSTAMP:20260420T084150
CREATED:20170720T131805Z
LAST-MODIFIED:20171011T151514Z
UID:2044-1507973400-1508085000@taniku-grow.com
SUMMARY:明治村蚤の市
DESCRIPTION:  \n \n  \n明治村蚤の市 \n*Growは4丁目17ブースです✨ \nここでしか手に入らないクラフトやアンティーク、植物などのお店が全国から約100店舗集まります \n10月14日（土）AM9：30～PM17:00 \n10月15日（日）AM9:30～PM16:30 \n会場：博物館明治村 \n愛知県犬山市内山1 \n明治村蚤の市\n会場MAPが完成いたしました！ \n文字が小さく見づらい部分がありますが、\nスマートフォンやiPhone、iPad等をお持ちの方は印刷しなくても閲覧でき、文字の拡大表示ができるので便利です。\n※携帯端末の機種によって表示できない場合もあります。 \n\n会場でもマップをお配りしますので、是非手にとってご覧ください。 \n広い会場ですので、事前に出店場所を確認して頂くと\n当日はスムーズにお買い物やワークショップなどをお楽しみ頂けると思います。 \nまた、蚤の市会場へは正門から入場していただきますと、非常に便利です。\n駐車場は正門近くにある「大駐車場」が一番近いので、是非そちらをご利用ください。 \n開催まであとわずかとなりました。\nどうぞお楽しみに！ \nーーーーーーーーーーーーーーーーーーーーー\n明治村 蚤の市 \n【期間】\n2017年10月14日（土）15日（日）\n9:30-17:00(最終日のみ16:30) \n【会場】\n博物館明治村\n愛知県犬山市字内山1番地 \n【入場料】\nフライヤー画像提示で¥1\,100（通常大人¥1\,700）\n※マップ掲示は割引対象外です。３枚目の画像を掲示してください。 \n\n共有:\n				Facebook で共有 (新しいウィンドウで開きます)\n				Facebook\n			その他\n				X で共有 (新しいウィンドウで開きます)\n				X\n			\n				Pinterest で共有 (新しいウィンドウで開きます)\n				Pinterest
URL:http://taniku-grow.com/event/meijimura-nominoichi
LOCATION:博物館明治村\, 内山1\, 犬山市\, 愛知県\, Japan
END:VEVENT
BEGIN:VEVENT
DTSTART;TZID=Asia/Tokyo:20170924T133000
DTEND;TZID=Asia/Tokyo:20170924T153000
DTSTAMP:20260420T084150
CREATED:20170621T031548Z
LAST-MODIFIED:20170822T143307Z
UID:2002-1506259800-1506267000@taniku-grow.com
SUMMARY:緑の教室　初めての多肉植物とサボテン
DESCRIPTION:PM13:30～PM15:30 \n参加費：2\,000円 \n1ヵ月前よりお電話で事前受付の予約開始となります \n会場：福井総合グリーンセンター　緑の窓口 \n福井県坂井市丸岡町楽間１５ \nTEL：0776-67-0002 \n  \n共有:\n				Facebook で共有 (新しいウィンドウで開きます)\n				Facebook\n			その他\n				X で共有 (新しいウィンドウで開きます)\n				X\n			\n				Pinterest で共有 (新しいウィンドウで開きます)\n				Pinterest
URL:http://taniku-grow.com/event/%e7%b7%91%e3%81%ae%e6%95%99%e5%ae%a4%e3%80%80%e5%88%9d%e3%82%81%e3%81%a6%e3%81%ae%e5%a4%9a%e8%82%89%e6%a4%8d%e7%89%a9%e3%81%a8%e3%82%b5%e3%83%9c%e3%83%86%e3%83%b3
LOCATION:福井県総合グリーンセンター\, 丸岡町楽間15\, 坂井市\, 福井県
END:VEVENT
BEGIN:VEVENT
DTSTART;TZID=Asia/Tokyo:20170620T133000
DTEND;TZID=Asia/Tokyo:20170620T150000
DTSTAMP:20260420T084150
CREATED:20170409T123834Z
LAST-MODIFIED:20170409T130515Z
UID:1856-1497965400-1497970800@taniku-grow.com
SUMMARY:霞の郷温泉カルチャー講座
DESCRIPTION:毎月第3火曜日PM13:30～PM15:00 \n多肉植物の寄せ植え講座を開講中です \n会場：霞の郷温泉 \n福井県坂井市丸岡町八ケ郷２１−７−１ \n共有:\n				Facebook で共有 (新しいウィンドウで開きます)\n				Facebook\n			その他\n				X で共有 (新しいウィンドウで開きます)\n				X\n			\n				Pinterest で共有 (新しいウィンドウで開きます)\n				Pinterest
URL:http://taniku-grow.com/event/kasumi2017-6-20
LOCATION:霞の郷温泉\, 丸岡町八ケ郷２１−７−１\, 坂井市\, 福井県
END:VEVENT
END:VCALENDAR