BEGIN:VCALENDAR
VERSION:2.0
PRODID:-// - ECPv6.15.20//NONSGML v1.0//EN
CALSCALE:GREGORIAN
METHOD:PUBLISH
X-ORIGINAL-URL:http://taniku-grow.com
X-WR-CALDESC: のイベント
REFRESH-INTERVAL;VALUE=DURATION:PT1H
X-Robots-Tag:noindex
X-PUBLISHED-TTL:PT1H
BEGIN:VTIMEZONE
TZID:Asia/Tokyo
BEGIN:STANDARD
TZOFFSETFROM:+0900
TZOFFSETTO:+0900
TZNAME:JST
DTSTART:20170101T000000
END:STANDARD
END:VTIMEZONE
BEGIN:VEVENT
DTSTART;TZID=Asia/Tokyo:20210918T100000
DTEND;TZID=Asia/Tokyo:20210920T170000
DTSTAMP:20260425T201436
CREATED:20210829T143616Z
LAST-MODIFIED:20210829T143616Z
UID:5052-1631959200-1632157200@taniku-grow.com
SUMMARY:梨狩り＆リメイク缶寄せ植えWORKSHOP
DESCRIPTION:2021年9月18日（土） \nAM10:00～PM13:00 \nPM14:00～PM17:00 \n19日（日） \nAM10:00～PM13:00 \nPM14:00～PM17:00 \n20日（月） \nAM10:00～PM13:00 \nPM14:00～PM17:00 \nの２部制で事前予約制です✨ \n  \n参加費 : 2\,500円+使用した苗の金額 \n会場：波松　㐂左衛門 \n福井県あわら市波松 \n開催場所は、なみまちカフェの近くで詳細はお申し込み時にお知らせいたします！ \n \n荒天の場合は中止または延期とさせていただきます⚡🌀☔ \n定員になり次第締切とさせて頂きます⚠️ \n内容 \n梨狩り(食べ放題)\n梨1袋お土産付き\nリメイク缶の寄せ植えWORKSHOP\nペイントは自分でしてもOK🖌️ \n持ち物 \n水分補給アイテム(自販機は近くにありませんのでご注意下さいませ) \n★WORKSHOP時はマスク着用をお願いいたします \n開催日前後が☔の場合は長靴 \n当日雨の場合は長靴と雨具をご持参下さい👢\n傘よりカッパの方が梨狩りしやすいです‼️ \n屋外開催ですので虫に刺されやすい方は対策をお願い致します \nご予約は　CONTACT　よりお願い致します✨ \nご希望の参加日時と参加される方のお名前、お電話番号をお知らせ下さいませ \nお子様連れでのご参加も可能です☺️ \nお子様の梨狩り&食べ放題はお一人様500円となります！ \nその他気になる事がありましたらお気軽にお問い合わせくださいませ‼️ \nご予約お待ちしております♪ \n共有:\n				Facebook で共有 (新しいウィンドウで開きます)\n				Facebook\n			その他\n				X で共有 (新しいウィンドウで開きます)\n				X\n			\n				Pinterest で共有 (新しいウィンドウで開きます)\n				Pinterest
URL:http://taniku-grow.com/event/%e6%a2%a8%e7%8b%a9%e3%82%8a%ef%bc%86%e3%83%aa%e3%83%a1%e3%82%a4%e3%82%af%e7%bc%b6%e5%af%84%e3%81%9b%e6%a4%8d%e3%81%88workshop
END:VEVENT
BEGIN:VEVENT
DTSTART;TZID=Asia/Tokyo:20180421T100000
DTEND;TZID=Asia/Tokyo:20180422T163000
DTSTAMP:20260425T201436
CREATED:20180314T033045Z
LAST-MODIFIED:20180314T033231Z
UID:2655-1524304800-1524414600@taniku-grow.com
SUMMARY:東海エコフェスタ
DESCRIPTION:4月21日（土）22日（日）AM10:00～PM16:30 \n会場：愛・地球博記念公園　大芝生広場 \n愛知県長久手市茨ケ廻間乙１５３３−１ \n  \n二代目大和高原の多肉屋さんの多肉植物も販売予定です！ \n共有:\n				Facebook で共有 (新しいウィンドウで開きます)\n				Facebook\n			その他\n				X で共有 (新しいウィンドウで開きます)\n				X\n			\n				Pinterest で共有 (新しいウィンドウで開きます)\n				Pinterest
URL:http://taniku-grow.com/event/tokaieco2018
LOCATION:愛・地球博記念公園\, 茨ケ廻間乙1533−1\, 長久手市\, 愛知県\, Japan
END:VEVENT
BEGIN:VEVENT
DTSTART;TZID=Asia/Tokyo:20180407T100000
DTEND;TZID=Asia/Tokyo:20180407T180000
DTSTAMP:20260425T201436
CREATED:20180214T010307Z
LAST-MODIFIED:20180403T223513Z
UID:2596-1523095200-1523124000@taniku-grow.com
SUMMARY:みどりでつながるGreen Marche 横浜2018
DESCRIPTION:  \n \nGreen Marche 横浜2018 \n4月7日(土)4月8日(日)AM10時〜PM18時\n会場： 山下公園 お祭り広場 \n神奈川県横浜市中区山下町２７９ \n＊Growは4月7日に出展させて頂く事になりました \nブースNo.C8です \n\n沢山の皆様にお会いできること楽しみにしています(*^^*) \n二代目大和高原の多肉屋さん・いとうぐりーんさんの多肉植物販売予定 \nお天気を見てWORKSHOPも開催できたらと思っています \nみんな来てね \n  \n\n\n▼出展者▼ \na piece of dream* & ficelle\nchie* craft\nInside Village Garden mayuno & sasa\nボタニカルコネクション 緑交\ngreen bucker\nbizarrefarm & TANITEN\ntaniku.ra & VERT-365MaiLifeDesign- ： mai\nくるみ*のgreen工房\n多肉Garden＊Grow\n道草\nBlumen Hütte\nGREEN JAM\nBORDER BREAK実行部\nandplants\n木谷美咲\nDream Craft吉坂包装株式会社\nサキュレントマスター：YASUSHI UEDA\nピースオブマインド：TAKAYUKI　KATO\nジャンク雑貨AYUMi：AYUMi\nジュエルガーデン：ACO\n花彩・Hanasai Taniku Works\nプロトリーフ\nGreenGalleryGARDENS\ncotoha\n河野自然園\nBOTANIZE\nWONDER FLOWER\nサントリーフラワーズ \n主催：GreenSnap \n\n共有:\n				Facebook で共有 (新しいウィンドウで開きます)\n				Facebook\n			その他\n				X で共有 (新しいウィンドウで開きます)\n				X\n			\n				Pinterest で共有 (新しいウィンドウで開きます)\n				Pinterest
URL:http://taniku-grow.com/event/event4-7
LOCATION:山下公園\, 中区山下町279\, 横浜市\, 神奈川県\, Japan
END:VEVENT
BEGIN:VEVENT
DTSTART;TZID=Asia/Tokyo:20180116T133000
DTEND;TZID=Asia/Tokyo:20180116T150000
DTSTAMP:20260425T201436
CREATED:20171227T142812Z
LAST-MODIFIED:20171227T142834Z
UID:2462-1516109400-1516114800@taniku-grow.com
SUMMARY:霞の郷カルチャー講座　昼の部
DESCRIPTION:New Year　arrange\n				\n			\n				\n			\n				\n				remake\n				\n			\n				\n			\n				\n				wreath\n				\n		\n\n毎回1つの作品を作ってお持ち帰り頂く事ができる \n3ヵ月1クルーの講座です \nどうしても来られない月は翌月に振り替え可能です \n  \n毎月第3火曜日PM13:30～PM15:00 \n受講料：6\,480円（税込）3ヵ月分前納 \n材料費：各回1\,500円程度～ \n会場：霞の郷温泉 \n福井県坂井市丸岡町八ヶ郷21-7-1 \n共有:\n				Facebook で共有 (新しいウィンドウで開きます)\n				Facebook\n			その他\n				X で共有 (新しいウィンドウで開きます)\n				X\n			\n				Pinterest で共有 (新しいウィンドウで開きます)\n				Pinterest
URL:http://taniku-grow.com/event/kasumi-pm
LOCATION:霞の郷温泉\, 丸岡町八ケ郷２１−７−１\, 坂井市\, 福井県
END:VEVENT
END:VCALENDAR