BEGIN:VCALENDAR
VERSION:2.0
PRODID:-// - ECPv6.15.20//NONSGML v1.0//EN
CALSCALE:GREGORIAN
METHOD:PUBLISH
X-ORIGINAL-URL:http://taniku-grow.com
X-WR-CALDESC: のイベント
REFRESH-INTERVAL;VALUE=DURATION:PT1H
X-Robots-Tag:noindex
X-PUBLISHED-TTL:PT1H
BEGIN:VTIMEZONE
TZID:Asia/Tokyo
BEGIN:STANDARD
TZOFFSETFROM:+0900
TZOFFSETTO:+0900
TZNAME:JST
DTSTART:20170101T000000
END:STANDARD
END:VTIMEZONE
BEGIN:VEVENT
DTSTART;TZID=Asia/Tokyo:20190427T120000
DTEND;TZID=Asia/Tokyo:20190429T170000
DTSTAMP:20260426T001429
CREATED:20190201T142259Z
LAST-MODIFIED:20190307T144331Z
UID:3608-1556366400-1556557200@taniku-grow.com
SUMMARY:Happiring 3nd Anniversary　クラフト&スィーツフェスティバル
DESCRIPTION:4月27日（土）PM12:00～PM19:00\n4月28日（日）AM10:00～PＭ17:00\n4月29日（月）AM10:00～PＭ17:00 \n会場：福井駅西口ハピリン　屋根付き広場ハピテラス \n共有:\n				Facebook で共有 (新しいウィンドウで開きます)\n				Facebook\n			その他\n				X で共有 (新しいウィンドウで開きます)\n				X\n			\n				Pinterest で共有 (新しいウィンドウで開きます)\n				Pinterest
URL:http://taniku-grow.com/event/event-2
LOCATION:ハピリン\, 中央1-2-1\, 福井市\, 福井県
END:VEVENT
BEGIN:VEVENT
DTSTART;TZID=Asia/Tokyo:20180421T100000
DTEND;TZID=Asia/Tokyo:20180422T163000
DTSTAMP:20260426T001429
CREATED:20180314T033045Z
LAST-MODIFIED:20180314T033231Z
UID:2655-1524304800-1524414600@taniku-grow.com
SUMMARY:東海エコフェスタ
DESCRIPTION:4月21日（土）22日（日）AM10:00～PM16:30 \n会場：愛・地球博記念公園　大芝生広場 \n愛知県長久手市茨ケ廻間乙１５３３−１ \n  \n二代目大和高原の多肉屋さんの多肉植物も販売予定です！ \n共有:\n				Facebook で共有 (新しいウィンドウで開きます)\n				Facebook\n			その他\n				X で共有 (新しいウィンドウで開きます)\n				X\n			\n				Pinterest で共有 (新しいウィンドウで開きます)\n				Pinterest
URL:http://taniku-grow.com/event/tokaieco2018
LOCATION:愛・地球博記念公園\, 茨ケ廻間乙1533−1\, 長久手市\, 愛知県\, Japan
END:VEVENT
END:VCALENDAR