BEGIN:VCALENDAR
VERSION:2.0
PRODID:-// - ECPv6.15.20//NONSGML v1.0//EN
CALSCALE:GREGORIAN
METHOD:PUBLISH
X-ORIGINAL-URL:http://taniku-grow.com
X-WR-CALDESC: のイベント
REFRESH-INTERVAL;VALUE=DURATION:PT1H
X-Robots-Tag:noindex
X-PUBLISHED-TTL:PT1H
BEGIN:VTIMEZONE
TZID:Asia/Tokyo
BEGIN:STANDARD
TZOFFSETFROM:+0900
TZOFFSETTO:+0900
TZNAME:JST
DTSTART:20240101T000000
END:STANDARD
END:VTIMEZONE
BEGIN:VEVENT
DTSTART;TZID=Asia/Tokyo:20250531T100000
DTEND;TZID=Asia/Tokyo:20250531T160000
DTSTAMP:20260422T084337
CREATED:20250522T140848Z
LAST-MODIFIED:20250522T140848Z
UID:6524-1748685600-1748707200@taniku-grow.com
SUMMARY:多肉販売 at プラントピア ！
DESCRIPTION:急なお知らせとなりますが5月31日（土）のみ \nAM9:00～PM16:00 \n福井総合植物園プラントピア館内1Fスペースにて \n多肉植物やZakka等の販売をさせていただきます！ \n（写真は2023年の福井ボタニカルマルシェ出店時のものです） \n  \n5月31日（土）6月1日（日）は福井ボタニカルマルシェが \nプラントピア屋外で開催されており、様々な方が出展されています！ \nぜひ合わせてお楽しみいただけたら嬉しいです！ \n皆様のご来場お待ちしておりますね！ \n  \n福井県丹生郡越前町朝日17-3-1\nTEL/FAX:0778-34-1120 \n共有:\n				Facebook で共有 (新しいウィンドウで開きます)\n				Facebook\n			その他\n				X で共有 (新しいウィンドウで開きます)\n				X\n			\n				Pinterest で共有 (新しいウィンドウで開きます)\n				Pinterest
URL:http://taniku-grow.com/event/%e5%a4%9a%e8%82%89%e8%b2%a9%e5%a3%b2-at-%e3%83%97%e3%83%a9%e3%83%b3%e3%83%88%e3%83%94%e3%82%a2-%ef%bc%81
LOCATION:越前町立福井総合植物園　プラントピア\, 丹生郡越前町朝日17-3-1\, 福井県
END:VEVENT
END:VCALENDAR